BEGIN:VCALENDAR
VERSION:2.0
PRODID:-//Rockwall Community Playhouse - ECPv6.1.1//NONSGML v1.0//EN
CALSCALE:GREGORIAN
METHOD:PUBLISH
X-ORIGINAL-URL:https://www.rockwallcommunityplayhouse.org
X-WR-CALDESC:Events for Rockwall Community Playhouse
REFRESH-INTERVAL;VALUE=DURATION:PT1H
X-Robots-Tag:noindex
X-PUBLISHED-TTL:PT1H
BEGIN:VTIMEZONE
TZID:UTC
BEGIN:STANDARD
TZOFFSETFROM:+0000
TZOFFSETTO:+0000
TZNAME:UTC
DTSTART:20200101T000000
END:STANDARD
END:VTIMEZONE
BEGIN:VEVENT
DTSTART;TZID=UTC:20201119T190000
DTEND;TZID=UTC:20201119T210000
DTSTAMP:20260423T043846
CREATED:20200220T154622Z
LAST-MODIFIED:20201019T180021Z
UID:13125-1605812400-1605819600@www.rockwallcommunityplayhouse.org
SUMMARY:I LOVE YOU\, YOU'RE PERFECT\, NOW CHANGE
DESCRIPTION:Book and Lyrics by Joe DiPietro\, Music by Jimmy Roberts \nDirected by Felicia Sykes \n\nPresented in the form of a series of vignettes connected by the central theme of love and relationships. The play’s tagline is ‘Everything you have ever secretly thought about dating\, romance\, marriage\, lovers\, husbands\, wives and in-laws\, but were afraid to admit’. \nRated:  Mature Audiences
URL:https://www.rockwallcommunityplayhouse.org/event/i-love-you-youre-perfect-now-change-4/
LOCATION:Rockwall Community Playhouse\, 609 E. Rusk Street\, Rockwall\, 75087\, United States
END:VEVENT
BEGIN:VEVENT
DTSTART;TZID=UTC:20201120T200000
DTEND;TZID=UTC:20201120T220000
DTSTAMP:20260423T043846
CREATED:20200220T154942Z
LAST-MODIFIED:20201019T180123Z
UID:13135-1605902400-1605909600@www.rockwallcommunityplayhouse.org
SUMMARY:I LOVE YOU\, YOU'RE PERFECT\, NOW CHANGE
DESCRIPTION:Book and Lyrics by Joe DiPietro\, Music by Jimmy Roberts \nDirected by Felicia Sykes \n\nPresented in the form of a series of vignettes connected by the central theme of love and relationships. The play’s tagline is ‘Everything you have ever secretly thought about dating\, romance\, marriage\, lovers\, husbands\, wives and in-laws\, but were afraid to admit’. \nRated:  Mature Audiences
URL:https://www.rockwallcommunityplayhouse.org/event/i-love-you-youre-perfect-now-change-2/
LOCATION:Rockwall Community Playhouse\, 609 E. Rusk Street\, Rockwall\, 75087\, United States
END:VEVENT
BEGIN:VEVENT
DTSTART;TZID=UTC:20201121T200000
DTEND;TZID=UTC:20201121T220000
DTSTAMP:20260423T043846
CREATED:20200220T154851Z
LAST-MODIFIED:20201019T180203Z
UID:13131-1605988800-1605996000@www.rockwallcommunityplayhouse.org
SUMMARY:I LOVE YOU\, YOU'RE PERFECT\, NOW CHANGE
DESCRIPTION:Book and Lyrics by Joe DiPietro and Music by Jimmy Roberts \nDirected by Felicia Sykes \n\nPresented in the form of a series of vignettes connected by the central theme of love and relationships. The play’s tagline is ‘Everything you have ever secretly thought about dating\, romance\, marriage\, lovers\, husbands\, wives and in-laws\, but were afraid to admit’. \nRated:  Mature Audiences
URL:https://www.rockwallcommunityplayhouse.org/event/i-love-you-youre-perfect-now-change-3-2/
LOCATION:Rockwall Community Playhouse\, 609 E. Rusk Street\, Rockwall\, 75087\, United States
END:VEVENT
BEGIN:VEVENT
DTSTART;TZID=UTC:20201122T140000
DTEND;TZID=UTC:20201122T160000
DTSTAMP:20260423T043846
CREATED:20200220T154917Z
LAST-MODIFIED:20201019T180251Z
UID:13133-1606053600-1606060800@www.rockwallcommunityplayhouse.org
SUMMARY:I LOVE YOU\, YOU'RE PERFECT\, NOW CHANGE
DESCRIPTION:Book and Lyrics by Joe DiPietro and Music by Jimmy Roberts \nDirected by Felicia Sykes \n\nPresented in the form of a series of vignettes connected by the central theme of love and relationships. The play’s tagline is ‘Everything you have ever secretly thought about dating\, romance\, marriage\, lovers\, husbands\, wives and in-laws\, but were afraid to admit’. \nRated:  Mature Audiences
URL:https://www.rockwallcommunityplayhouse.org/event/i-love-you-youre-perfect-now-change-7/
LOCATION:Rockwall Community Playhouse\, 609 E. Rusk Street\, Rockwall\, 75087\, United States
END:VEVENT
END:VCALENDAR