BEGIN:VCALENDAR
VERSION:2.0
PRODID:-//Rockwall Community Playhouse - ECPv6.1.1//NONSGML v1.0//EN
CALSCALE:GREGORIAN
METHOD:PUBLISH
X-WR-CALNAME:Rockwall Community Playhouse
X-ORIGINAL-URL:https://www.rockwallcommunityplayhouse.org
X-WR-CALDESC:Events for Rockwall Community Playhouse
REFRESH-INTERVAL;VALUE=DURATION:PT1H
X-Robots-Tag:noindex
X-PUBLISHED-TTL:PT1H
BEGIN:VTIMEZONE
TZID:UTC
BEGIN:STANDARD
TZOFFSETFROM:+0000
TZOFFSETTO:+0000
TZNAME:UTC
DTSTART:20200101T000000
END:STANDARD
END:VTIMEZONE
BEGIN:VEVENT
DTSTART;TZID=UTC:20200308T140000
DTEND;TZID=UTC:20200308T150000
DTSTAMP:20260422T215221
CREATED:20200221T152245Z
LAST-MODIFIED:20200221T152245Z
UID:13191-1583676000-1583679600@www.rockwallcommunityplayhouse.org
SUMMARY:RCP at RCP:  AMERICAN IDLE
DESCRIPTION:Performed by children 5th  thru 8th grade.
URL:https://www.rockwallcommunityplayhouse.org/event/rcp-at-rcp-american-idle/
LOCATION:Rockwall Community Playhouse\, 609 E. Rusk Street\, Rockwall\, 75087\, United States
END:VEVENT
BEGIN:VEVENT
DTSTART;TZID=UTC:20200307T190000
DTEND;TZID=UTC:20200307T200000
DTSTAMP:20260422T215221
CREATED:20200221T152332Z
LAST-MODIFIED:20200221T152337Z
UID:13193-1583607600-1583611200@www.rockwallcommunityplayhouse.org
SUMMARY:RCP at RCP:  AMERICAN IDLE
DESCRIPTION:Performed by children 5th  thru 8th grade.
URL:https://www.rockwallcommunityplayhouse.org/event/rcp-at-rcp-american-idle-2/
LOCATION:Rockwall Community Playhouse\, 609 E. Rusk Street\, Rockwall\, 75087\, United States
END:VEVENT
BEGIN:VEVENT
DTSTART;TZID=UTC:20200307T140000
DTEND;TZID=UTC:20200307T150000
DTSTAMP:20260422T215221
CREATED:20200221T152146Z
LAST-MODIFIED:20200221T152146Z
UID:13189-1583589600-1583593200@www.rockwallcommunityplayhouse.org
SUMMARY:RCP at RCP:  U-U-UGLY DUCKLING
DESCRIPTION:Performed by children 1st thru 4th grade.
URL:https://www.rockwallcommunityplayhouse.org/event/rcp-at-rcp-u-u-ugly-duckling-2/
LOCATION:Rockwall Community Playhouse\, 609 E. Rusk Street\, Rockwall\, 75087\, United States
END:VEVENT
BEGIN:VEVENT
DTSTART;TZID=UTC:20200306T190000
DTEND;TZID=UTC:20200306T200000
DTSTAMP:20260422T215221
CREATED:20200221T152030Z
LAST-MODIFIED:20200221T152039Z
UID:13187-1583521200-1583524800@www.rockwallcommunityplayhouse.org
SUMMARY:RCP at RCP:  U-U-UGLY DUCKLING
DESCRIPTION:Performed by children 1st thru 4th grade.
URL:https://www.rockwallcommunityplayhouse.org/event/rcp-at-rcp-u-u-ugly-duckling/
LOCATION:Rockwall Community Playhouse\, 609 E. Rusk Street\, Rockwall\, 75087\, United States
END:VEVENT
BEGIN:VEVENT
DTSTART;TZID=UTC:20200223T140000
DTEND;TZID=UTC:20200223T160000
DTSTAMP:20260422T215221
CREATED:20200220T153038Z
LAST-MODIFIED:20200220T153346Z
UID:13114-1582466400-1582473600@www.rockwallcommunityplayhouse.org
SUMMARY:STEEL MAGNOLIAS
DESCRIPTION:By Robert Harling \nDirected by Darlene Singleton \nThe action is set in Truvy’s beauty salon in Chinquapin\, Louisiana\, where all the ladies who are “anybody” come to have their hair done. This is a beautiful play of extraordinary humor and warmth.
URL:https://www.rockwallcommunityplayhouse.org/event/steel-magnolias-3/
LOCATION:Rockwall Community Playhouse\, 609 E. Rusk Street\, Rockwall\, 75087\, United States
END:VEVENT
BEGIN:VEVENT
DTSTART;TZID=UTC:20200222T200000
DTEND;TZID=UTC:20200222T220000
DTSTAMP:20260422T215221
CREATED:20200220T153004Z
LAST-MODIFIED:20200220T153404Z
UID:13112-1582401600-1582408800@www.rockwallcommunityplayhouse.org
SUMMARY:STEEL MAGNOLIAS
DESCRIPTION:By Robert Harling \nDirected by Darlene Singleton \nThe action is set in Truvy’s beauty salon in Chinquapin\, Louisiana\, where all the ladies who are “anybody” come to have their hair done. This is a beautiful play of extraordinary humor and warmth.
URL:https://www.rockwallcommunityplayhouse.org/event/steel-magnolias-2/
LOCATION:Rockwall Community Playhouse\, 609 E. Rusk Street\, Rockwall\, 75087\, United States
END:VEVENT
BEGIN:VEVENT
DTSTART;TZID=UTC:20200221T200000
DTEND;TZID=UTC:20200221T220000
DTSTAMP:20260422T215221
CREATED:20200220T152932Z
LAST-MODIFIED:20200220T152932Z
UID:13109-1582315200-1582322400@www.rockwallcommunityplayhouse.org
SUMMARY:STEEL MAGNOLIAS
DESCRIPTION:By Robert Harling\n \nDirected by Darlene Singleton \nThe action is set in Truvy’s beauty salon in Chinquapin\, Louisiana\, where all the ladies who are “anybody” come to have their hair done. This is a beautiful play of extraordinary humor and warmth.
URL:https://www.rockwallcommunityplayhouse.org/event/steel-magnolias/
LOCATION:Rockwall Community Playhouse\, 609 E. Rusk Street\, Rockwall\, 75087\, United States
END:VEVENT
END:VCALENDAR