BEGIN:VCALENDAR
VERSION:2.0
PRODID:-//Rockwall Community Playhouse - ECPv6.1.1//NONSGML v1.0//EN
CALSCALE:GREGORIAN
METHOD:PUBLISH
X-WR-CALNAME:Rockwall Community Playhouse
X-ORIGINAL-URL:https://www.rockwallcommunityplayhouse.org
X-WR-CALDESC:Events for Rockwall Community Playhouse
REFRESH-INTERVAL;VALUE=DURATION:PT1H
X-Robots-Tag:noindex
X-PUBLISHED-TTL:PT1H
BEGIN:VTIMEZONE
TZID:UTC
BEGIN:STANDARD
TZOFFSETFROM:+0000
TZOFFSETTO:+0000
TZNAME:UTC
DTSTART:20210101T000000
END:STANDARD
TZID:America/New_York
BEGIN:DAYLIGHT
TZOFFSETFROM:-0500
TZOFFSETTO:-0400
TZNAME:EDT
DTSTART:20210314T070000
END:DAYLIGHT
BEGIN:STANDARD
TZOFFSETFROM:-0400
TZOFFSETTO:-0500
TZNAME:EST
DTSTART:20211107T060000
END:STANDARD
END:VTIMEZONE
BEGIN:VEVENT
DTSTART;TZID=UTC:20210402T200000
DTEND;TZID=UTC:20210402T220000
DTSTAMP:20260422T225731
CREATED:20210118T203226Z
LAST-MODIFIED:20210118T203226Z
UID:13559-1617393600-1617400800@www.rockwallcommunityplayhouse.org
SUMMARY:THE BOYS NEXT DOOR
DESCRIPTION:Written by Tom Griffin.  THE BOYS NEXT DOOR deals with four intellectually disabled men who live together in a small apartment – and Jack\, the caring social worker who is on the verge of career burnout. The story takes place over roughly a two month period and consists of brief vignettes about the men’s lives. This story will pull at your heartstrings\, charm you with antics\, and not soon be forgotten.
URL:https://www.rockwallcommunityplayhouse.org/event/the-boys-next-door-7/
LOCATION:Rockwall Community Playhouse\, 609 E. Rusk Street\, Rockwall\, 75087\, United States
END:VEVENT
BEGIN:VEVENT
DTSTART;TZID=UTC:20210403T200000
DTEND;TZID=UTC:20210403T220000
DTSTAMP:20260422T225731
CREATED:20210118T203301Z
LAST-MODIFIED:20210118T203301Z
UID:13558-1617480000-1617487200@www.rockwallcommunityplayhouse.org
SUMMARY:THE BOYS NEXT DOOR
DESCRIPTION:Written by Tom Griffin.  THE BOYS NEXT DOOR deals with four intellectually disabled men who live together in a small apartment – and Jack\, the caring social worker who is on the verge of career burnout. The story takes place over roughly a two month period and consists of brief vignettes about the men’s lives. This story will pull at your heartstrings\, charm you with antics\, and not soon be forgotten.
URL:https://www.rockwallcommunityplayhouse.org/event/the-boys-next-door-8/
LOCATION:Rockwall Community Playhouse\, 609 E. Rusk Street\, Rockwall\, 75087\, United States
END:VEVENT
BEGIN:VEVENT
DTSTART;TZID=UTC:20210404T140000
DTEND;TZID=UTC:20210404T160000
DTSTAMP:20260422T225731
CREATED:20210118T203334Z
LAST-MODIFIED:20210118T203334Z
UID:13557-1617544800-1617552000@www.rockwallcommunityplayhouse.org
SUMMARY:THE BOYS NEXT DOOR
DESCRIPTION:Written by Tom Griffin.  THE BOYS NEXT DOOR deals with four intellectually disabled men who live together in a small apartment – and Jack\, the caring social worker who is on the verge of career burnout. The story takes place over roughly a two month period and consists of brief vignettes about the men’s lives. This story will pull at your heartstrings\, charm you with antics\, and not soon be forgotten.
URL:https://www.rockwallcommunityplayhouse.org/event/the-boys-next-door-9/
LOCATION:Rockwall Community Playhouse\, 609 E. Rusk Street\, Rockwall\, 75087\, United States
END:VEVENT
BEGIN:VEVENT
DTSTART;TZID=UTC:20210501T130000
DTEND;TZID=UTC:20210501T170000
DTSTAMP:20260422T225731
CREATED:20200221T153705Z
LAST-MODIFIED:20210118T205018Z
UID:13221-1619874000-1619888400@www.rockwallcommunityplayhouse.org
SUMMARY:BEAUTY AND THE BEAST JR. (RCP Teen Theater)
DESCRIPTION:BEAUTY & THE BEAST JR is performed by TEENS ages 13-19.
URL:https://www.rockwallcommunityplayhouse.org/event/beauty-and-the-beast-jr-6/
LOCATION:Rockwall Community Playhouse\, 609 E. Rusk Street\, Rockwall\, 75087\, United States
END:VEVENT
BEGIN:VEVENT
DTSTART;TZID=UTC:20210507T200000
DTEND;TZID=UTC:20210507T220000
DTSTAMP:20260422T225731
CREATED:20210118T203953Z
LAST-MODIFIED:20210118T203953Z
UID:13577-1620417600-1620424800@www.rockwallcommunityplayhouse.org
SUMMARY:PRIDE & PREJUDICE
DESCRIPTION:Written by Jane Austen.  This isn’t your grandmother’s Austen! Bold\, surprising\, boisterous\, and timely\, this P&P for a new era explores the absurdities and thrills of finding your perfect (or imperfect) match in life. The outspoken Lizzy Bennet is determined to never marry\, despite mounting pressure from society. But can she resist love\, especially when that vaguely handsome\, mildly amusing\, and impossibly aggravating Mr. Darcy keeps popping up at every turn? Literature’s greatest tale of latent love has never felt so theatrical\, or so full of life than it does in this effervescent adaptation. Because what turns us into greater fools…than the high-stakes game of love?
URL:https://www.rockwallcommunityplayhouse.org/event/pride-prejudice-2/
LOCATION:Rockwall Community Playhouse\, 609 E. Rusk Street\, Rockwall\, 75087\, United States
END:VEVENT
BEGIN:VEVENT
DTSTART;TZID=UTC:20210508T200000
DTEND;TZID=UTC:20210508T220000
DTSTAMP:20260422T225731
CREATED:20210118T204100Z
LAST-MODIFIED:20210118T204100Z
UID:13584-1620504000-1620511200@www.rockwallcommunityplayhouse.org
SUMMARY:PRIDE & PREJUDICE
DESCRIPTION:Written by Jane Austen.  This isn’t your grandmother’s Austen! Bold\, surprising\, boisterous\, and timely\, this P&P for a new era explores the absurdities and thrills of finding your perfect (or imperfect) match in life. The outspoken Lizzy Bennet is determined to never marry\, despite mounting pressure from society. But can she resist love\, especially when that vaguely handsome\, mildly amusing\, and impossibly aggravating Mr. Darcy keeps popping up at every turn? Literature’s greatest tale of latent love has never felt so theatrical\, or so full of life than it does in this effervescent adaptation. Because what turns us into greater fools…than the high-stakes game of love?
URL:https://www.rockwallcommunityplayhouse.org/event/pride-prejudice-3/
LOCATION:Rockwall Community Playhouse\, 609 E. Rusk Street\, Rockwall\, 75087\, United States
END:VEVENT
BEGIN:VEVENT
DTSTART;TZID=UTC:20210509T140000
DTEND;TZID=UTC:20210509T160000
DTSTAMP:20260422T225731
CREATED:20210118T203846Z
LAST-MODIFIED:20210118T203846Z
UID:13573-1620568800-1620576000@www.rockwallcommunityplayhouse.org
SUMMARY:PRIDE & PREJUDICE
DESCRIPTION:Written by Jane Austen.  This isn’t your grandmother’s Austen! Bold\, surprising\, boisterous\, and timely\, this P&P for a new era explores the absurdities and thrills of finding your perfect (or imperfect) match in life. The outspoken Lizzy Bennet is determined to never marry\, despite mounting pressure from society. But can she resist love\, especially when that vaguely handsome\, mildly amusing\, and impossibly aggravating Mr. Darcy keeps popping up at every turn? Literature’s greatest tale of latent love has never felt so theatrical\, or so full of life than it does in this effervescent adaptation. Because what turns us into greater fools…than the high-stakes game of love?
URL:https://www.rockwallcommunityplayhouse.org/event/pride-prejudice/
LOCATION:Rockwall Community Playhouse\, 609 E. Rusk Street\, Rockwall\, 75087\, United States
END:VEVENT
BEGIN:VEVENT
DTSTART;TZID=UTC:20210514T200000
DTEND;TZID=UTC:20210514T220000
DTSTAMP:20260422T225731
CREATED:20210118T204146Z
LAST-MODIFIED:20210118T204146Z
UID:13583-1621022400-1621029600@www.rockwallcommunityplayhouse.org
SUMMARY:PRIDE & PREJUDICE
DESCRIPTION:Written by Jane Austen.  This isn’t your grandmother’s Austen! Bold\, surprising\, boisterous\, and timely\, this P&P for a new era explores the absurdities and thrills of finding your perfect (or imperfect) match in life. The outspoken Lizzy Bennet is determined to never marry\, despite mounting pressure from society. But can she resist love\, especially when that vaguely handsome\, mildly amusing\, and impossibly aggravating Mr. Darcy keeps popping up at every turn? Literature’s greatest tale of latent love has never felt so theatrical\, or so full of life than it does in this effervescent adaptation. Because what turns us into greater fools…than the high-stakes game of love?
URL:https://www.rockwallcommunityplayhouse.org/event/pride-prejudice-4/
LOCATION:Rockwall Community Playhouse\, 609 E. Rusk Street\, Rockwall\, 75087\, United States
END:VEVENT
BEGIN:VEVENT
DTSTART;TZID=UTC:20210515T200000
DTEND;TZID=UTC:20210515T220000
DTSTAMP:20260422T225731
CREATED:20210118T204211Z
LAST-MODIFIED:20210118T204211Z
UID:13582-1621108800-1621116000@www.rockwallcommunityplayhouse.org
SUMMARY:PRIDE & PREJUDICE
DESCRIPTION:Written by Jane Austen.  This isn’t your grandmother’s Austen! Bold\, surprising\, boisterous\, and timely\, this P&P for a new era explores the absurdities and thrills of finding your perfect (or imperfect) match in life. The outspoken Lizzy Bennet is determined to never marry\, despite mounting pressure from society. But can she resist love\, especially when that vaguely handsome\, mildly amusing\, and impossibly aggravating Mr. Darcy keeps popping up at every turn? Literature’s greatest tale of latent love has never felt so theatrical\, or so full of life than it does in this effervescent adaptation. Because what turns us into greater fools…than the high-stakes game of love?
URL:https://www.rockwallcommunityplayhouse.org/event/pride-prejudice-5/
LOCATION:Rockwall Community Playhouse\, 609 E. Rusk Street\, Rockwall\, 75087\, United States
END:VEVENT
BEGIN:VEVENT
DTSTART;TZID=UTC:20210516T140000
DTEND;TZID=UTC:20210516T160000
DTSTAMP:20260422T225731
CREATED:20210118T204248Z
LAST-MODIFIED:20210118T204248Z
UID:13581-1621173600-1621180800@www.rockwallcommunityplayhouse.org
SUMMARY:PRIDE & PREJUDICE
DESCRIPTION:Written by Jane Austen.  This isn’t your grandmother’s Austen! Bold\, surprising\, boisterous\, and timely\, this P&P for a new era explores the absurdities and thrills of finding your perfect (or imperfect) match in life. The outspoken Lizzy Bennet is determined to never marry\, despite mounting pressure from society. But can she resist love\, especially when that vaguely handsome\, mildly amusing\, and impossibly aggravating Mr. Darcy keeps popping up at every turn? Literature’s greatest tale of latent love has never felt so theatrical\, or so full of life than it does in this effervescent adaptation. Because what turns us into greater fools…than the high-stakes game of love?
URL:https://www.rockwallcommunityplayhouse.org/event/pride-prejudice-6/
LOCATION:Rockwall Community Playhouse\, 609 E. Rusk Street\, Rockwall\, 75087\, United States
END:VEVENT
BEGIN:VEVENT
DTSTART;TZID=UTC:20210521T200000
DTEND;TZID=UTC:20210521T220000
DTSTAMP:20260422T225731
CREATED:20210118T204320Z
LAST-MODIFIED:20210118T204320Z
UID:13580-1621627200-1621634400@www.rockwallcommunityplayhouse.org
SUMMARY:PRIDE & PREJUDICE
DESCRIPTION:Written by Jane Austen.  This isn’t your grandmother’s Austen! Bold\, surprising\, boisterous\, and timely\, this P&P for a new era explores the absurdities and thrills of finding your perfect (or imperfect) match in life. The outspoken Lizzy Bennet is determined to never marry\, despite mounting pressure from society. But can she resist love\, especially when that vaguely handsome\, mildly amusing\, and impossibly aggravating Mr. Darcy keeps popping up at every turn? Literature’s greatest tale of latent love has never felt so theatrical\, or so full of life than it does in this effervescent adaptation. Because what turns us into greater fools…than the high-stakes game of love?
URL:https://www.rockwallcommunityplayhouse.org/event/pride-prejudice-7/
LOCATION:Rockwall Community Playhouse\, 609 E. Rusk Street\, Rockwall\, 75087\, United States
END:VEVENT
BEGIN:VEVENT
DTSTART;TZID=UTC:20210522T200000
DTEND;TZID=UTC:20210522T220000
DTSTAMP:20260422T225731
CREATED:20210118T204342Z
LAST-MODIFIED:20210118T204342Z
UID:13579-1621713600-1621720800@www.rockwallcommunityplayhouse.org
SUMMARY:PRIDE & PREJUDICE
DESCRIPTION:Written by Jane Austen.  This isn’t your grandmother’s Austen! Bold\, surprising\, boisterous\, and timely\, this P&P for a new era explores the absurdities and thrills of finding your perfect (or imperfect) match in life. The outspoken Lizzy Bennet is determined to never marry\, despite mounting pressure from society. But can she resist love\, especially when that vaguely handsome\, mildly amusing\, and impossibly aggravating Mr. Darcy keeps popping up at every turn? Literature’s greatest tale of latent love has never felt so theatrical\, or so full of life than it does in this effervescent adaptation. Because what turns us into greater fools…than the high-stakes game of love?
URL:https://www.rockwallcommunityplayhouse.org/event/pride-prejudice-8/
LOCATION:Rockwall Community Playhouse\, 609 E. Rusk Street\, Rockwall\, 75087\, United States
END:VEVENT
BEGIN:VEVENT
DTSTART;TZID=America/New_York:20211117T190000
DTEND;TZID=America/New_York:20211117T190000
DTSTAMP:20260422T225731
CREATED:20211004T163419Z
LAST-MODIFIED:20211004T163554Z
UID:13888-1637175600-1637175600@www.rockwallcommunityplayhouse.org
SUMMARY:CINDERELLA (Pay What You Can)
DESCRIPTION:Holiday musical production of the Original Version of CINDERELLA. This timeless enchantment of a magical fairy tale is reborn with the Rodgers & Hammerstein hallmarks of originality\, charm and elegance.  Originally presented on television in 1957 starring Julie Andrews\, Rodgers & Hammerstein’s CINDERELLA was the most widely viewed program in the history of the medium. Its recreation in 1965 starring Lesley Ann Warren was no less successful in transporting a new generation to the miraculous kingdom of dreams-come-true.  CINDERELLA is based on the fairy tale by Charles Perrault\, with music by Richard Rodgers\, lyrics/book by Oscar Hammerstein II.  Note this is the Original Version of CINDERELLA\, and not the 2013 Broadway Version.
URL:https://www.rockwallcommunityplayhouse.org/event/cinderella-pay-what-you-can/
LOCATION:Rockwall Community Playhouse\, 609 E. Rusk Street\, Rockwall\, 75087\, United States
END:VEVENT
BEGIN:VEVENT
DTSTART;TZID=America/New_York:20211119T200000
DTEND;TZID=America/New_York:20211119T200000
DTSTAMP:20260422T225731
CREATED:20211004T163930Z
LAST-MODIFIED:20211004T163930Z
UID:13890-1637352000-1637352000@www.rockwallcommunityplayhouse.org
SUMMARY:CINDERELLA
DESCRIPTION:Holiday musical production of the Original Version of CINDERELLA. This timeless enchantment of a magical fairy tale is reborn with the Rodgers & Hammerstein hallmarks of originality\, charm and elegance.  Originally presented on television in 1957 starring Julie Andrews\, Rodgers & Hammerstein’s CINDERELLA was the most widely viewed program in the history of the medium. Its recreation in 1965 starring Lesley Ann Warren was no less successful in transporting a new generation to the miraculous kingdom of dreams-come-true.  CINDERELLA is based on the fairy tale by Charles Perrault\, with music by Richard Rodgers\, lyrics/book by Oscar Hammerstein II.  Note this is the Original Version of CINDERELLA\, and not the 2013 Broadway Version.
URL:https://www.rockwallcommunityplayhouse.org/event/cinderella/
LOCATION:Rockwall Community Playhouse\, 609 E. Rusk Street\, Rockwall\, 75087\, United States
END:VEVENT
END:VCALENDAR