BEGIN:VCALENDAR
VERSION:2.0
PRODID:-//Rockwall Community Playhouse - ECPv6.1.1//NONSGML v1.0//EN
CALSCALE:GREGORIAN
METHOD:PUBLISH
X-ORIGINAL-URL:https://www.rockwallcommunityplayhouse.org
X-WR-CALDESC:Events for Rockwall Community Playhouse
REFRESH-INTERVAL;VALUE=DURATION:PT1H
X-Robots-Tag:noindex
X-PUBLISHED-TTL:PT1H
BEGIN:VTIMEZONE
TZID:UTC
BEGIN:STANDARD
TZOFFSETFROM:+0000
TZOFFSETTO:+0000
TZNAME:UTC
DTSTART:20210101T000000
END:STANDARD
END:VTIMEZONE
BEGIN:VEVENT
DTSTART;TZID=UTC:20210327T200000
DTEND;TZID=UTC:20210327T220000
DTSTAMP:20260423T004910
CREATED:20210118T203119Z
LAST-MODIFIED:20210118T203119Z
UID:13561-1616875200-1616882400@www.rockwallcommunityplayhouse.org
SUMMARY:THE BOYS NEXT DOOR
DESCRIPTION:Written by Tom Griffin.  THE BOYS NEXT DOOR deals with four intellectually disabled men who live together in a small apartment – and Jack\, the caring social worker who is on the verge of career burnout. The story takes place over roughly a two month period and consists of brief vignettes about the men’s lives. This story will pull at your heartstrings\, charm you with antics\, and not soon be forgotten.
URL:https://www.rockwallcommunityplayhouse.org/event/the-boys-next-door-5/
LOCATION:Rockwall Community Playhouse\, 609 E. Rusk Street\, Rockwall\, 75087\, United States
END:VEVENT
END:VCALENDAR