BEGIN:VCALENDAR
VERSION:2.0
PRODID:-//Rockwall Community Playhouse - ECPv6.1.1//NONSGML v1.0//EN
CALSCALE:GREGORIAN
METHOD:PUBLISH
X-WR-CALNAME:Rockwall Community Playhouse
X-ORIGINAL-URL:https://www.rockwallcommunityplayhouse.org
X-WR-CALDESC:Events for Rockwall Community Playhouse
REFRESH-INTERVAL;VALUE=DURATION:PT1H
X-Robots-Tag:noindex
X-PUBLISHED-TTL:PT1H
BEGIN:VTIMEZONE
TZID:UTC
BEGIN:STANDARD
TZOFFSETFROM:+0000
TZOFFSETTO:+0000
TZNAME:UTC
DTSTART:20210101T000000
END:STANDARD
END:VTIMEZONE
BEGIN:VEVENT
DTSTART;TZID=UTC:20210306T140000
DTEND;TZID=UTC:20210306T160000
DTSTAMP:20260422T214322
CREATED:20210118T204416Z
LAST-MODIFIED:20210118T204646Z
UID:13591-1615039200-1615046400@www.rockwallcommunityplayhouse.org
SUMMARY:RCP at RCP Performance
DESCRIPTION:
URL:https://www.rockwallcommunityplayhouse.org/event/pride-prejudice-9/
LOCATION:Rockwall Community Playhouse\, 609 E. Rusk Street\, Rockwall\, 75087\, United States
END:VEVENT
BEGIN:VEVENT
DTSTART;TZID=UTC:20210306T190000
DTEND;TZID=UTC:20210306T210000
DTSTAMP:20260422T214322
CREATED:20210118T204911Z
LAST-MODIFIED:20210118T204911Z
UID:13598-1615057200-1615064400@www.rockwallcommunityplayhouse.org
SUMMARY:RCP at RCP Performance
DESCRIPTION:
URL:https://www.rockwallcommunityplayhouse.org/event/rcp-at-rcp-performance-3/
LOCATION:Rockwall Community Playhouse\, 609 E. Rusk Street\, Rockwall\, 75087\, United States
END:VEVENT
END:VCALENDAR