BEGIN:VCALENDAR
VERSION:2.0
PRODID:-//Rockwall Community Playhouse - ECPv6.1.1//NONSGML v1.0//EN
CALSCALE:GREGORIAN
METHOD:PUBLISH
X-ORIGINAL-URL:https://www.rockwallcommunityplayhouse.org
X-WR-CALDESC:Events for Rockwall Community Playhouse
REFRESH-INTERVAL;VALUE=DURATION:PT1H
X-Robots-Tag:noindex
X-PUBLISHED-TTL:PT1H
BEGIN:VTIMEZONE
TZID:UTC
BEGIN:STANDARD
TZOFFSETFROM:+0000
TZOFFSETTO:+0000
TZNAME:UTC
DTSTART:20210101T000000
END:STANDARD
END:VTIMEZONE
BEGIN:VEVENT
DTSTART;TZID=UTC:20210305T190000
DTEND;TZID=UTC:20210305T210000
DTSTAMP:20260423T004804
CREATED:20210118T204800Z
LAST-MODIFIED:20210118T204814Z
UID:13596-1614970800-1614978000@www.rockwallcommunityplayhouse.org
SUMMARY:RCP at RCP Performance
DESCRIPTION:
URL:https://www.rockwallcommunityplayhouse.org/event/rcp-at-rcp-performance-2/
LOCATION:Rockwall Community Playhouse\, 609 E. Rusk Street\, Rockwall\, 75087\, United States
END:VEVENT
END:VCALENDAR